BEGIN:VCALENDAR
VERSION:2.0
PRODID:-//Elithera World - ECPv6.15.20//NONSGML v1.0//EN
CALSCALE:GREGORIAN
METHOD:PUBLISH
X-WR-CALNAME:Elithera World
X-ORIGINAL-URL:https://elithera.world
X-WR-CALDESC:Veranstaltungen für Elithera World
REFRESH-INTERVAL;VALUE=DURATION:PT1H
X-Robots-Tag:noindex
X-PUBLISHED-TTL:PT1H
BEGIN:VTIMEZONE
TZID:Europe/Berlin
BEGIN:DAYLIGHT
TZOFFSETFROM:+0100
TZOFFSETTO:+0200
TZNAME:CEST
DTSTART:20250330T010000
END:DAYLIGHT
BEGIN:STANDARD
TZOFFSETFROM:+0200
TZOFFSETTO:+0100
TZNAME:CET
DTSTART:20251026T010000
END:STANDARD
BEGIN:DAYLIGHT
TZOFFSETFROM:+0100
TZOFFSETTO:+0200
TZNAME:CEST
DTSTART:20260329T010000
END:DAYLIGHT
BEGIN:STANDARD
TZOFFSETFROM:+0200
TZOFFSETTO:+0100
TZNAME:CET
DTSTART:20261025T010000
END:STANDARD
BEGIN:DAYLIGHT
TZOFFSETFROM:+0100
TZOFFSETTO:+0200
TZNAME:CEST
DTSTART:20270328T010000
END:DAYLIGHT
BEGIN:STANDARD
TZOFFSETFROM:+0200
TZOFFSETTO:+0100
TZNAME:CET
DTSTART:20271031T010000
END:STANDARD
END:VTIMEZONE
BEGIN:VEVENT
DTSTART;TZID=Europe/Berlin:20260429T090000
DTEND;TZID=Europe/Berlin:20260429T093000
DTSTAMP:20260425T025856
CREATED:20260324T110524Z
LAST-MODIFIED:20260324T110524Z
UID:10000957-1777453200-1777455000@elithera.world
SUMMARY:Elithera-Meetwoch: Das Elithera Lohngruppenmodell\, Stellenanzeigen mit Gehaltsangaben
DESCRIPTION:Jeden Mittwoch um 09.00 Uhr treffen wir uns für 30 Minuten zu einem anderen Thema. Das Thema wird kurz vorgestellt und dann könnt Ihr Euch dazu austauschen\, Eure Fragen stellen und diskutieren. \nNach 30 Minuten ist zwar das Treffen beendet\, aber das jeweilige Thema wird dann im Forum fortgeführt. \nUm an dem Meetwoch beizutreten klick bitte hier auf den Button “Meetwoch beitreten”. \n  \nMeetwoch beitreten
URL:https://elithera.world/veranstaltung/elithera-meetwoch-das-elithera-lohngruppenmodell-stellenanzeigen-mit-gehaltsangaben/
LOCATION:Meetwoch – Microsoft Teams Besprechung
CATEGORIES:Online-Vortrag
ATTACH;FMTTYPE=image/png:https://elithera.world/wp-content/uploads/2024/06/Meetwoch_Kalender.png
ORGANIZER;CN="Elithera Netzwerk GmbH":MAILTO:netzwerk@elithera.net
END:VEVENT
BEGIN:VEVENT
DTSTART;VALUE=DATE:20260504
DTEND;VALUE=DATE:20260505
DTSTAMP:20260425T025856
CREATED:20251127T100843Z
LAST-MODIFIED:20251127T100843Z
UID:10000880-1777852800-1777939199@elithera.world
SUMMARY:ElitheraFlexi Karte 5er und 10er
DESCRIPTION:Um unsere Alleskönnerin – die ElitheraFlexi Karte richtig nutzen und somit mehr Zusatzgeschäfte im Privatzahlerbereich generieren zu können\, möchten wir Dir unsere ElitherFlexi Karte\, so wie die von uns bereit gestellten Werbemittel zur Bewerbung ans Herz legen. \nEin strategisch guter Zeitpunkt an denen Menschen eher bereit sind\, in ihre Gesundheit zu investieren\, insbesondere in kostenpflichtige (Selbstzahler-)Therapieleistungen ist zum Jahreswechsel\, Anfang/Mitte Januar.\nDies ist der klassische Zeitpunkt für Neujahrsvorsätze. Viele Menschen fassen den Entschluss\, sich mehr um ihre Gesundheit zu kümmern\, chronische Schmerzen anzugehen oder einen lange gehegten Wunsch (z. B. einen Marathon laufen\, wieder schmerzfrei arbeiten) in die Tat umzusetzen. \nHier findest du Alles zur ElitheraFlexi Karte: \nzum Shop
URL:https://elithera.world/veranstaltung/elitheraflexi-karte-5er-und-10er-2/
LOCATION:Deine Praxis / Dein Gesundheitszentrum
CATEGORIES:Marketingjahresplan
ATTACH;FMTTYPE=image/jpeg:https://elithera.world/wp-content/uploads/2025/11/Aktions_Bilder_1300x728px_FlexiKarte-scaled.jpg
ORGANIZER;CN="Elithera Netzwerk GmbH":MAILTO:netzwerk@elithera.net
END:VEVENT
BEGIN:VEVENT
DTSTART;TZID=Europe/Berlin:20260506T090000
DTEND;TZID=Europe/Berlin:20260506T100000
DTSTAMP:20260425T025856
CREATED:20260424T070246Z
LAST-MODIFIED:20260424T070246Z
UID:10000958-1778058000-1778061600@elithera.world
SUMMARY:Elithera-Meetwoch: Optimierung der neuen Website
DESCRIPTION:Jeden Mittwoch um 09.00 Uhr treffen wir uns für 30 Minuten zu einem anderen Thema. Das Thema wird kurz vorgestellt und dann könnt Ihr Euch dazu austauschen\, Eure Fragen stellen und diskutieren. \nNach 30 Minuten ist zwar das Treffen beendet\, aber das jeweilige Thema wird dann im Forum fortgeführt. \nUm an dem Meetwoch beizutreten klick bitte hier auf den Button “Meetwoch beitreten”. \n  \nMeetwoch beitreten
URL:https://elithera.world/veranstaltung/elithera-meetwoch-optimierung-der-neuen-website/
LOCATION:Meetwoch – Microsoft Teams Besprechung
CATEGORIES:Online-Vortrag
ATTACH;FMTTYPE=image/png:https://elithera.world/wp-content/uploads/2024/06/Meetwoch_Kalender.png
ORGANIZER;CN="Elithera Netzwerk GmbH":MAILTO:netzwerk@elithera.net
END:VEVENT
BEGIN:VEVENT
DTSTART;VALUE=DATE:20260510
DTEND;VALUE=DATE:20260511
DTSTAMP:20260425T025856
CREATED:20251127T110116Z
LAST-MODIFIED:20251127T110116Z
UID:10000883-1778371200-1778457599@elithera.world
SUMMARY:Muttertag
DESCRIPTION:Zur Vorbereitung auf den Muttertag\, solltest Du jetzt die digitalen Produkte herunterladen und für den Muttertag am 8. Mai vorplanen. \nHier findest du Alles zum Muttertag: \nzum Shop
URL:https://elithera.world/veranstaltung/muttertag/
LOCATION:Deine Praxis / Dein Gesundheitszentrum
CATEGORIES:Marketingjahresplan
ATTACH;FMTTYPE=image/jpeg:https://elithera.world/wp-content/uploads/2025/11/Aktions_Bilder_1300x728px_Muttertag.jpg
ORGANIZER;CN="Elithera Netzwerk GmbH":MAILTO:netzwerk@elithera.net
END:VEVENT
BEGIN:VEVENT
DTSTART;VALUE=DATE:20260511
DTEND;VALUE=DATE:20260512
DTSTAMP:20260425T025856
CREATED:20251127T101032Z
LAST-MODIFIED:20251127T101032Z
UID:10000881-1778457600-1778543999@elithera.world
SUMMARY:Wir feiern unsere Kunden
DESCRIPTION:Zur Vorbereitung auf die monatliche Aktion “Wir feiern unsere Kunden” solltest Du jetzt anfangen\, die Printprodukte und eventuell benötigte Giveaways zu bestellen und die digitalen Artikel herunterzuladen. \nHier findest Du alles zur Wir feiern unsere Kunden Aktion: \nzum Shop
URL:https://elithera.world/veranstaltung/wir-feiern-unsere-kunden-3/
LOCATION:Deine Praxis / Dein Gesundheitszentrum
CATEGORIES:Marketingjahresplan
ATTACH;FMTTYPE=image/jpeg:https://elithera.world/wp-content/uploads/2025/11/Aktions_Bilder_1300x728px_Wir-feiern-unser-Kunden-scaled.jpg
ORGANIZER;CN="Elithera Netzwerk GmbH":MAILTO:netzwerk@elithera.net
END:VEVENT
BEGIN:VEVENT
DTSTART;VALUE=DATE:20260514
DTEND;VALUE=DATE:20260515
DTSTAMP:20260425T025856
CREATED:20251127T110741Z
LAST-MODIFIED:20251127T110741Z
UID:10000884-1778716800-1778803199@elithera.world
SUMMARY:Vatertag
DESCRIPTION:Zur Vorbereitung auf den Vatertag\, solltest Du jetzt die digitalen Produkte herunterladen und für den Vatertag am 18. Mai vorplanen. \n\nHier findest du Alles zur Vatertags Aktion: \nzum Shop
URL:https://elithera.world/veranstaltung/vatertag/
LOCATION:Deine Praxis / Dein Gesundheitszentrum
CATEGORIES:Marketingjahresplan
ATTACH;FMTTYPE=image/jpeg:https://elithera.world/wp-content/uploads/2025/11/Aktions_Bilder_1300x728px_Vatertag24.jpg
ORGANIZER;CN="Elithera Netzwerk GmbH":MAILTO:netzwerk@elithera.net
END:VEVENT
BEGIN:VEVENT
DTSTART;VALUE=DATE:20260515
DTEND;VALUE=DATE:20260516
DTSTAMP:20260425T025856
CREATED:20260210T080130Z
LAST-MODIFIED:20260210T080130Z
UID:10000947-1778803200-1778889599@elithera.world
SUMMARY:Balanced-Scorecard Abfrage Finanzen
DESCRIPTION:Ihr bekommt per Mail den Link zur Formsabfrage\, in der ihr Euren Standort auswählt und die entsprechenden Ergebnisse eintragt. \nErgebnisdarstellung elithera.world: ca. 1 Monat nach Ende der Abfrage
URL:https://elithera.world/veranstaltung/balanced-scorecard-abfrage-finanzen-3/
CATEGORIES:Balanced-Scorecard
ATTACH;FMTTYPE=image/jpeg:https://elithera.world/wp-content/uploads/2022/11/bsc-abfrage-finanzen.jpg
ORGANIZER;CN="Elithera Netzwerk GmbH":MAILTO:netzwerk@elithera.net
END:VEVENT
BEGIN:VEVENT
DTSTART;VALUE=DATE:20260522
DTEND;VALUE=DATE:20260523
DTSTAMP:20260425T025856
CREATED:20251127T110845Z
LAST-MODIFIED:20251127T110845Z
UID:10000885-1779408000-1779494399@elithera.world
SUMMARY:Ärztepäckchen
DESCRIPTION:Zur Vorbereitung auf die Verwendung unseres Ärztepäckchens\, solltest du jetzt die Banderolen für die von uns empfohlenen Produkte bestellen.\nDie besten Zeitpunkte im Jahr\, um bei einem Arzt vorstellig zu werden oder Werbung zu machen\, liegen in der Regel in ruhigeren Phasen außerhalb der Hauptkrankheitswellen und Ferienzeiten. \nEin optimales Zeitfenster im Frühsommer ist im Juni\, vor den großen Ferien: Kurz bevor die Haupturlaubszeit beginnt\, kann es nochmals einen guten Zeitpunkt geben. Viele Ärzte planen ihren Urlaub und organisieren ihre Vertretungen – hier können Sie sich als verlässlicher Partner positionieren. \n\nHier findest du Alles zu den Ärztepäckchen: \nzum Shop
URL:https://elithera.world/veranstaltung/aerztepaeckchen-2/
LOCATION:Deine Praxis / Dein Gesundheitszentrum
CATEGORIES:Marketingjahresplan
ATTACH;FMTTYPE=image/jpeg:https://elithera.world/wp-content/uploads/2025/11/Aktions_Bilder_1300x728px_Aerztepaeckchen-scaled.jpg
ORGANIZER;CN="Elithera Netzwerk GmbH":MAILTO:netzwerk@elithera.net
END:VEVENT
BEGIN:VEVENT
DTSTART;VALUE=DATE:20260530
DTEND;VALUE=DATE:20260531
DTSTAMP:20260425T025856
CREATED:20251127T111045Z
LAST-MODIFIED:20251127T111045Z
UID:10000886-1780099200-1780185599@elithera.world
SUMMARY:Welt-MS-Tag
DESCRIPTION:die digitalen Produkte zum Gesundheitstag solltest Du jetzt herunterladen: \nzum Shop
URL:https://elithera.world/veranstaltung/welt-ms-tag/
LOCATION:Deine Praxis / Dein Gesundheitszentrum
CATEGORIES:Marketingjahresplan
ATTACH;FMTTYPE=image/jpeg:https://elithera.world/wp-content/uploads/2025/11/Welt-MS-Tag.jpg
ORGANIZER;CN="Elithera Netzwerk GmbH":MAILTO:netzwerk@elithera.net
END:VEVENT
BEGIN:VEVENT
DTSTART;VALUE=DATE:20260601
DTEND;VALUE=DATE:20260602
DTSTAMP:20260425T025856
CREATED:20251127T111218Z
LAST-MODIFIED:20251127T111218Z
UID:10000887-1780272000-1780358399@elithera.world
SUMMARY:Holiday Card
DESCRIPTION:Hauptreisezeit Frühsommer (Mai/Anfang Juni): Fokus Sommerferien Hochsaison\nKurz bevor die ersten Bundesländer in die Sommerferien starten und der Großteil der Bevölkerung den Sommerurlaub antritt. \nZur Vorbereitung auf die Ferienzeiten bieten wir Dir mit unsere Holiday Card\, die Möglichkeit\, dass sich Deine Kunden eine Urlaubsvertretung sichern können. Diese Aktion dient nicht nur zur Kundenbindung\, sondern auch zur Kundengewinnung.  Plane die Bewerbung der Holiday Card passend zu den Ferienzeiten in deinem Bundesland. Die Holiday Card\, sowie die passenden Werbemittel zur Aktion kannst du in unserem Shop bestellen und downloaden.\nHier findest du Alles zur Holiday Card: \nzum Shop
URL:https://elithera.world/veranstaltung/holiday-card-2/
LOCATION:Deine Praxis / Dein Gesundheitszentrum
CATEGORIES:Marketingjahresplan
ATTACH;FMTTYPE=image/jpeg:https://elithera.world/wp-content/uploads/2025/11/Aktions_Bilder_1300x728px12.jpg
ORGANIZER;CN="Elithera Netzwerk GmbH":MAILTO:netzwerk@elithera.net
END:VEVENT
BEGIN:VEVENT
DTSTART;VALUE=DATE:20260611
DTEND;VALUE=DATE:20260612
DTSTAMP:20260425T025856
CREATED:20251127T112324Z
LAST-MODIFIED:20251127T112324Z
UID:10000888-1781136000-1781222399@elithera.world
SUMMARY:Fussball-Weltmeisterschaft 2026
DESCRIPTION:Zur Vorbereitung auf die Fußball-Weltmeisterschaft 2026 solltest du jetzt die von uns bereit gestellten Werbeartikel bestellen\, die digitalen Produkte herunterladen und alles für die Laufzeit der WM (11. Juni – 19. Juli 2026) vorplanen. \nDie Fußball-Weltmeisterschaft 2026 findet vom 11. Juni bis zum 19. Juli 2026 in den Vereinigten Staaten\, Kanada und Mexiko statt. Es wird das erste Turnier mit 48 Mannschaften sein\, die in insgesamt 104 Spielen antreten. Die Spiele werden in 16 Städten und Stadien in den drei Ländern ausgetragen. Das Eröffnungsspiel findet im Aztekenstadion in Mexiko-Stadt statt\, während das Finale im MetLife Stadium in der Metropolregion New York/New Jersey ausgetragen wird. \n\nHier findest du Alles zu den Fussball-Weltmeisterschaft 2026: \nzum Shop
URL:https://elithera.world/veranstaltung/fussball-weltmeisterschaft-2026/
LOCATION:Deine Praxis / Dein Gesundheitszentrum
CATEGORIES:Marketingjahresplan
ATTACH;FMTTYPE=image/jpeg:https://elithera.world/wp-content/uploads/2025/11/Aktions_Bilder_1300x728px_FussballWM26.jpg
ORGANIZER;CN="Elithera Netzwerk GmbH":MAILTO:netzwerk@elithera.net
END:VEVENT
BEGIN:VEVENT
DTSTART;VALUE=DATE:20260621
DTEND;VALUE=DATE:20260622
DTSTAMP:20260425T025856
CREATED:20251127T112644Z
LAST-MODIFIED:20251127T112644Z
UID:10000889-1782000000-1782086399@elithera.world
SUMMARY:Weltyogatag
DESCRIPTION:die digitalen Produkte zum Gesundheitstag solltest Du jetzt herunterladen: \nzum Shop
URL:https://elithera.world/veranstaltung/weltyogatag/
LOCATION:Deine Praxis / Dein Gesundheitszentrum
CATEGORIES:Marketingjahresplan
ATTACH;FMTTYPE=image/jpeg:https://elithera.world/wp-content/uploads/2025/11/Aktions_Bilder_1300x728pxWeltyogatag.jpg
ORGANIZER;CN="Elithera Netzwerk GmbH":MAILTO:netzwerk@elithera.net
END:VEVENT
BEGIN:VEVENT
DTSTART;VALUE=DATE:20260726
DTEND;VALUE=DATE:20260727
DTSTAMP:20260425T025856
CREATED:20251127T112804Z
LAST-MODIFIED:20251127T112804Z
UID:10000890-1785024000-1785110399@elithera.world
SUMMARY:Tschüss-Schule-Tüte
DESCRIPTION:zur Vorbereitung auf die Verwendung unsere Tschüss-Schule Tüte für Physiotherapie oder für Ergotherapie\, solltest du jetzt die die von uns bereit gestellte Werbekarte bestellen. \nNutze diesen Zeitraum Juli–August als Nachfassaktion: So kannst du  derjenigen erreichen\, die nach der Prüfung noch keine Stelle gefunden haben. \n\nHier findest Du alles zur Tschüss-Schule-Tüte: \nzum Shop
URL:https://elithera.world/veranstaltung/tschuess-schule-tuete-3/
LOCATION:Deine Praxis / Dein Gesundheitszentrum
CATEGORIES:Marketingjahresplan
ATTACH;FMTTYPE=image/jpeg:https://elithera.world/wp-content/uploads/2025/11/Aktions_Bilder_1300x728px8.jpg
ORGANIZER;CN="Elithera Netzwerk GmbH":MAILTO:netzwerk@elithera.net
END:VEVENT
BEGIN:VEVENT
DTSTART;VALUE=DATE:20260730
DTEND;VALUE=DATE:20260731
DTSTAMP:20260425T025856
CREATED:20251127T112850Z
LAST-MODIFIED:20251127T112850Z
UID:10000891-1785369600-1785455999@elithera.world
SUMMARY:Wir feiern unsere Kunden
DESCRIPTION:Zur Vorbereitung auf die monatliche Aktion “Wir feiern unsere Kunden” solltest Du jetzt anfangen\, die Printprodukte und eventuell benötigte Giveaways zu bestellen und die digitalen Artikel herunterzuladen. \nHier findest Du alles zur Wir feiern unsere Kunden Aktion: \nzum Shop
URL:https://elithera.world/veranstaltung/wir-feiern-unsere-kunden-4/
LOCATION:Deine Praxis / Dein Gesundheitszentrum
CATEGORIES:Marketingjahresplan
ATTACH;FMTTYPE=image/jpeg:https://elithera.world/wp-content/uploads/2025/11/Aktions_Bilder_1300x728px_Wir-feiern-unser-Kunden-scaled.jpg
ORGANIZER;CN="Elithera Netzwerk GmbH":MAILTO:netzwerk@elithera.net
END:VEVENT
BEGIN:VEVENT
DTSTART;VALUE=DATE:20260801
DTEND;VALUE=DATE:20260901
DTSTAMP:20260425T025856
CREATED:20250106T074520Z
LAST-MODIFIED:20260210T080722Z
UID:10000785-1785542400-1788220799@elithera.world
SUMMARY:Balanced-Scorecard Abfrage Kundenzufriedenheit
DESCRIPTION:Erhebungszeit: durchgängig das ganze Jahr \nWir integrieren die Befragung auf Eurer Website\, sodass die Patienten und Kunden dort mit einem Klick auf die Abfrage geleitet werden. Zusätzlich stehen für Euch Handzettel zum Ausdrucken im Shop zur Verfügung: Bewertungskarten im Shop
URL:https://elithera.world/veranstaltung/balanced-scorecard-abfrage-kundenzufriedenheit/
CATEGORIES:Balanced-Scorecard
ATTACH;FMTTYPE=image/jpeg:https://elithera.world/wp-content/uploads/2022/11/bsc-abfrage-kundenzufriedenheit.jpg
ORGANIZER;CN="Elithera Netzwerk GmbH":MAILTO:netzwerk@elithera.net
END:VEVENT
BEGIN:VEVENT
DTSTART;VALUE=DATE:20260815
DTEND;VALUE=DATE:20260816
DTSTAMP:20260425T025856
CREATED:20251127T112958Z
LAST-MODIFIED:20251127T112958Z
UID:10000892-1786752000-1786838399@elithera.world
SUMMARY:Tag der Erholung
DESCRIPTION:die digitalen Produkte zum Gesundheitstag solltest Du jetzt herunterladen: \nzum Shop
URL:https://elithera.world/veranstaltung/tag-der-erholung/
LOCATION:Deine Praxis / Dein Gesundheitszentrum
CATEGORIES:Marketingjahresplan
ATTACH;FMTTYPE=image/jpeg:https://elithera.world/wp-content/uploads/2025/11/Tag-der-Erholung.jpg
ORGANIZER;CN="Elithera Netzwerk GmbH":MAILTO:netzwerk@elithera.net
END:VEVENT
BEGIN:VEVENT
DTSTART;VALUE=DATE:20260815
DTEND;VALUE=DATE:20260816
DTSTAMP:20260425T025856
CREATED:20260210T080149Z
LAST-MODIFIED:20260210T080149Z
UID:10000948-1786752000-1786838399@elithera.world
SUMMARY:Balanced-Scorecard Abfrage Finanzen
DESCRIPTION:Ihr bekommt per Mail den Link zur Formsabfrage\, in der ihr Euren Standort auswählt und die entsprechenden Ergebnisse eintragt. \nErgebnisdarstellung elithera.world: ca. 1 Monat nach Ende der Abfrage
URL:https://elithera.world/veranstaltung/balanced-scorecard-abfrage-finanzen-4/
CATEGORIES:Balanced-Scorecard
ATTACH;FMTTYPE=image/jpeg:https://elithera.world/wp-content/uploads/2022/11/bsc-abfrage-finanzen.jpg
ORGANIZER;CN="Elithera Netzwerk GmbH":MAILTO:netzwerk@elithera.net
END:VEVENT
BEGIN:VEVENT
DTSTART;VALUE=DATE:20260821
DTEND;VALUE=DATE:20260822
DTSTAMP:20260425T025856
CREATED:20251127T113055Z
LAST-MODIFIED:20251127T113055Z
UID:10000893-1787270400-1787356799@elithera.world
SUMMARY:ElitheraFlexi Karte 5er und 10er
DESCRIPTION:Um unsere Alleskönnerin – die ElitheraFlexi Karte richtig nutzen und somit mehr Zusatzgeschäfte im Privatzahlerbereich generieren zu können\, möchten wir Dir unsere ElitherFlexi Karte\, so wie die von uns bereit gestellten Werbemittel zur Bewerbung ans Herz legen. \nEin strategisch guter Zeitpunkt an denen Menschen eher bereit sind\, in ihre Gesundheit zu investieren\, insbesondere in kostenpflichtige (Selbstzahler-)Therapieleistungen ist nach den Sommerurlauben.\nDann kehren die meisten Menschen in ihren Alltag zurück. Häufig haben sie im Urlaub überzogene Aktivitäten unternommen (Wandern\, Sport) oder ihre Beschwerden wurden durch langes Sitzen im Auto oder Flugzeug schlimmer. Der Wiedereinstieg in den Job motiviert sie\, sich um “Baustellen” zu kümmern\, bevor der Herbst und Winter beginnen. \nHier findest du Alles zur ElitheraFlexi Karte: \nzum Shop
URL:https://elithera.world/veranstaltung/elitheraflexi-karte-5er-und-10er-3/
LOCATION:Deine Praxis / Dein Gesundheitszentrum
CATEGORIES:Marketingjahresplan
ATTACH;FMTTYPE=image/jpeg:https://elithera.world/wp-content/uploads/2025/11/Aktions_Bilder_1300x728px_FlexiKarte-scaled.jpg
ORGANIZER;CN="Elithera Netzwerk GmbH":MAILTO:netzwerk@elithera.net
END:VEVENT
BEGIN:VEVENT
DTSTART;VALUE=DATE:20260828
DTEND;VALUE=DATE:20260829
DTSTAMP:20260425T025856
CREATED:20251127T113139Z
LAST-MODIFIED:20251127T113139Z
UID:10000894-1787875200-1787961599@elithera.world
SUMMARY:Ärztepäckchen
DESCRIPTION:Zur Vorbereitung auf die Verwendung unseres Ärztepäckchens\, solltest du jetzt die Banderolen für die von uns empfohlenen Produkte bestellen.\nDie besten Zeitpunkte im Jahr\, um bei einem Arzt vorstellig zu werden oder Werbung zu machen\, liegen in der Regel in ruhigeren Phasen außerhalb der Hauptkrankheitswellen und Ferienzeiten. \nEin optimales Zeitfenster im Frühherbst ist Angang September bis Mitte Oktober: Nach den Sommerferien normalisiert sich der Praxisbetrieb schnell wieder. Bevor die ersten Herbst- und Winterinfekte zunehmen\, ist dies eine gute Gelegenheit\, Kontakte zu pflegen oder neu zu knüpfen. \n\nHier findest du Alles zu den Ärztepäckchen: \nzum Shop
URL:https://elithera.world/veranstaltung/aerztepaeckchen-3/
LOCATION:Deine Praxis / Dein Gesundheitszentrum
CATEGORIES:Marketingjahresplan
ATTACH;FMTTYPE=image/jpeg:https://elithera.world/wp-content/uploads/2025/11/Aktions_Bilder_1300x728px_Aerztepaeckchen-scaled.jpg
ORGANIZER;CN="Elithera Netzwerk GmbH":MAILTO:netzwerk@elithera.net
END:VEVENT
BEGIN:VEVENT
DTSTART;VALUE=DATE:20260831
DTEND;VALUE=DATE:20260901
DTSTAMP:20260425T025856
CREATED:20251127T113306Z
LAST-MODIFIED:20251127T113306Z
UID:10000895-1788134400-1788220799@elithera.world
SUMMARY:Holiday Card
DESCRIPTION:Hauptreisezeit Spätsommer/Früher Herbst (Ende August/September): Fokus Nach dem Urlaub ist vor dem Urlaub (Winter/Weihnachten) \n\nNach den Sommerferien kehrt der Alltag ein\, und viele suchen neue Motivation oder planen bereits den nächsten Trip.\nZur Vorbereitung auf die Ferienzeiten bieten wir Dir mit unsere Holiday Card\, die Möglichkeit\, dass sich Deine Kunden eine Urlaubsvertretung sichern können. Diese Aktion dient nicht nur zur Kundenbindung\, sondern auch zur Kundengewinnung.  Plane die Bewerbung der Holiday Card passend zu den Ferienzeiten in deinem Bundesland. \nDie Holiday Card\, sowie die passenden Werbemittel zur Aktion kannst du in unserem Shop bestellen und downloaden. Hier findest du Alles zur Holiday Card: \nzum Shop
URL:https://elithera.world/veranstaltung/holiday-card-3/
LOCATION:Deine Praxis / Dein Gesundheitszentrum
CATEGORIES:Marketingjahresplan
ATTACH;FMTTYPE=image/jpeg:https://elithera.world/wp-content/uploads/2025/11/Aktions_Bilder_1300x728px12.jpg
ORGANIZER;CN="Elithera Netzwerk GmbH":MAILTO:netzwerk@elithera.net
END:VEVENT
BEGIN:VEVENT
DTSTART;VALUE=DATE:20260905
DTEND;VALUE=DATE:20260906
DTSTAMP:20260425T025856
CREATED:20251127T113518Z
LAST-MODIFIED:20251127T113518Z
UID:10000896-1788566400-1788652799@elithera.world
SUMMARY:Tag der Querschnittlähmung
DESCRIPTION:die digitalen Produkte zum Gesundheitstag solltest Du jetzt herunterladen: \nzum Shop
URL:https://elithera.world/veranstaltung/tag-der-querschnittlaehmung/
LOCATION:Deine Praxis / Dein Gesundheitszentrum
CATEGORIES:Marketingjahresplan
ATTACH;FMTTYPE=image/jpeg:https://elithera.world/wp-content/uploads/2025/11/Tag-der-Querschnittlaehmung.jpg
ORGANIZER;CN="Elithera Netzwerk GmbH":MAILTO:netzwerk@elithera.net
END:VEVENT
BEGIN:VEVENT
DTSTART;VALUE=DATE:20260905
DTEND;VALUE=DATE:20260906
DTSTAMP:20260425T025856
CREATED:20251127T113605Z
LAST-MODIFIED:20251127T113605Z
UID:10000897-1788566400-1788652799@elithera.world
SUMMARY:Kopfschmerztag
DESCRIPTION:die digitalen Produkte zum Gesundheitstag solltest Du jetzt herunterladen: \nzum Shop
URL:https://elithera.world/veranstaltung/kopfschmerztag/
LOCATION:Deine Praxis / Dein Gesundheitszentrum
CATEGORIES:Marketingjahresplan
ATTACH;FMTTYPE=image/jpeg:https://elithera.world/wp-content/uploads/2025/11/Aktions_Bilder_1300x728px_Kopfschmerztag.jpg
ORGANIZER;CN="Elithera Netzwerk GmbH":MAILTO:netzwerk@elithera.net
END:VEVENT
BEGIN:VEVENT
DTSTART;VALUE=DATE:20260908
DTEND;VALUE=DATE:20260909
DTSTAMP:20260425T025856
CREATED:20251127T113657Z
LAST-MODIFIED:20251127T113657Z
UID:10000898-1788825600-1788911999@elithera.world
SUMMARY:Welt-Physiotherapietag
DESCRIPTION:die digitalen Produkte zum Gesundheitstag solltest Du jetzt herunterladen: \nzum Shop
URL:https://elithera.world/veranstaltung/welt-physiotherapietag/
LOCATION:Deine Praxis / Dein Gesundheitszentrum
CATEGORIES:Marketingjahresplan
ATTACH;FMTTYPE=image/jpeg:https://elithera.world/wp-content/uploads/2025/11/Welt-Physiotherapie-Tag.jpg
ORGANIZER;CN="Elithera Netzwerk GmbH":MAILTO:netzwerk@elithera.net
END:VEVENT
BEGIN:VEVENT
DTSTART;VALUE=DATE:20260918
DTEND;VALUE=DATE:20260919
DTSTAMP:20260425T025856
CREATED:20251127T114057Z
LAST-MODIFIED:20251127T114057Z
UID:10000900-1789689600-1789775999@elithera.world
SUMMARY:Wir feiern unsere Kunden
DESCRIPTION:Zur Vorbereitung auf die monatliche Aktion “Wir feiern unsere Kunden” solltest Du jetzt anfangen\, die Printprodukte und eventuell benötigte Giveaways zu bestellen und die digitalen Artikel herunterzuladen. \nHier findest Du alles zur Wir feiern unsere Kunden Aktion: \nzum Shop
URL:https://elithera.world/veranstaltung/wir-feiern-unsere-kunden-5/
LOCATION:Deine Praxis / Dein Gesundheitszentrum
CATEGORIES:Marketingjahresplan
ATTACH;FMTTYPE=image/jpeg:https://elithera.world/wp-content/uploads/2025/11/Aktions_Bilder_1300x728px_Wir-feiern-unser-Kunden-scaled.jpg
ORGANIZER;CN="Elithera Netzwerk GmbH":MAILTO:netzwerk@elithera.net
END:VEVENT
BEGIN:VEVENT
DTSTART;VALUE=DATE:20260921
DTEND;VALUE=DATE:20260922
DTSTAMP:20260425T025856
CREATED:20251127T114233Z
LAST-MODIFIED:20251127T114233Z
UID:10000901-1789948800-1790035199@elithera.world
SUMMARY:Welt-Alzheimertag
DESCRIPTION:die digitalen Produkte zum Gesundheitstag solltest Du jetzt herunterladen: \nzum Shop
URL:https://elithera.world/veranstaltung/welt-alzheimertag/
LOCATION:Deine Praxis / Dein Gesundheitszentrum
CATEGORIES:Marketingjahresplan
ATTACH;FMTTYPE=image/jpeg:https://elithera.world/wp-content/uploads/2025/11/Welt-Alzheimertag.jpg
ORGANIZER;CN="Elithera Netzwerk GmbH":MAILTO:netzwerk@elithera.net
END:VEVENT
BEGIN:VEVENT
DTSTART;VALUE=DATE:20260922
DTEND;VALUE=DATE:20260923
DTSTAMP:20260425T025856
CREATED:20251127T114532Z
LAST-MODIFIED:20251127T114532Z
UID:10000902-1790035200-1790121599@elithera.world
SUMMARY:Fit in den Herbst
DESCRIPTION:Der Herbstanfang 2026 ist am Dienstag\, den 22. September 2026.\nDas ist der astronomische (kalendarische) Herbstanfang\, der durch die Tag-und-Nacht-Gleiche (Äquinoktium) markiert wird – also den Zeitpunkt\, an dem Tag und Nacht etwa gleich lang sind. Ab diesem Moment beginnt auf der Nordhalbkugel der Herbst\, während auf der Südhalbkugel der Frühling startet. \nZur Vorbereitung auf den Herbst solltest Du jetzt anfangen die Printprodukte zu bestellen. Du kannst auch die digitalen Produkte herunterladen und für den Aktionsbeginn vorplanen.\nHier findest du Alles zur Fit in den Herbst Aktion: \nzum Shop
URL:https://elithera.world/veranstaltung/fit-in-den-herbst/
LOCATION:Deine Praxis / Dein Gesundheitszentrum
CATEGORIES:Marketingjahresplan
ATTACH;FMTTYPE=image/jpeg:https://elithera.world/wp-content/uploads/2025/11/Aktions_Bilder_1300x728px14.jpg
ORGANIZER;CN="Elithera Netzwerk GmbH":MAILTO:netzwerk@elithera.net
END:VEVENT
BEGIN:VEVENT
DTSTART;VALUE=DATE:20260925
DTEND;VALUE=DATE:20260926
DTSTAMP:20260425T025856
CREATED:20251127T114953Z
LAST-MODIFIED:20251127T114953Z
UID:10000903-1790294400-1790380799@elithera.world
SUMMARY:O`zapft is! – Gratis-Coupons für Mitarbeiter
DESCRIPTION:Die Oktoberfest 2026 in München beginnt am Samstag\, 19. September 2026\, mit dem traditionellen Anstich um 12 Uhr mittags. Die Veranstaltung läuft dann bis Sonntag\, den 4. Oktober 2026. Andere Oktoberfeste 2026 starten am Freitag\, 25. September.\nZur Vorbereitung auf das Oktoberfest und die von uns für Deine Mitarbeiter angebotenen Gratis-Verzehr-Coupons solltest Du jetzt anfangen die Printprodukte zu bestellen.\nHier findest du alles zu den Gratis-Coupons für deine Mitarbeiter: \nzum Shop
URL:https://elithera.world/veranstaltung/ozapft-is-gratis-coupons-fuer-mitarbeiter/
LOCATION:Deine Praxis / Dein Gesundheitszentrum
CATEGORIES:Marketingjahresplan
ATTACH;FMTTYPE=image/jpeg:https://elithera.world/wp-content/uploads/2025/11/Aktions_Bilder_1300x728px_Ozapft-scaled.jpg
ORGANIZER;CN="Elithera Netzwerk GmbH":MAILTO:netzwerk@elithera.net
END:VEVENT
BEGIN:VEVENT
DTSTART;VALUE=DATE:20260926
DTEND;VALUE=DATE:20260927
DTSTAMP:20260425T025856
CREATED:20251127T115359Z
LAST-MODIFIED:20251127T115359Z
UID:10000904-1790380800-1790467199@elithera.world
SUMMARY:Deutscher Lungentag
DESCRIPTION:die digitalen Produkte zum Gesundheitstag solltest Du jetzt herunterladen: \nzum Shop
URL:https://elithera.world/veranstaltung/deutscher-lungentag-2/
LOCATION:Deine Praxis / Dein Gesundheitszentrum
CATEGORIES:Marketingjahresplan
ATTACH;FMTTYPE=image/jpeg:https://elithera.world/wp-content/uploads/2025/11/Deutscher-Lungentag.jpg
ORGANIZER;CN="Elithera Netzwerk GmbH":MAILTO:netzwerk@elithera.net
END:VEVENT
BEGIN:VEVENT
DTSTART;TZID=Europe/Berlin:20260928T090000
DTEND;TZID=Europe/Berlin:20261001T160000
DTSTAMP:20260425T025856
CREATED:20251217T092737Z
LAST-MODIFIED:20251217T092737Z
UID:10000935-1790586000-1790870400@elithera.world
SUMMARY:Erfolgsfaktoren - Modul 1
DESCRIPTION:Unser 2-teiliges Seminar für Existenzgründer und Praxisinhaber\, die neu im Netzwerk sind\, vermittelt Dir Know How für Deine erfolgreiche Praxisführung. Wir coachen Dich für Deinen rundum perfekten Start in Deine Selbstständigkeit und zur Optimierung Deiner Praxis. \nDu bist eine oder ein Teilnehmer*in von maximal 8 gleichgesinnten Kollegen/Kolleginnen\, die das Abenteuer eigene Praxis wagen. Das sorgt erfahrungsgemäß für jede Menge zündenden Gesprächsstoff untereinander und manchmal sogar für Freundschaften. \nIn Modul 1 geht um Themen wie: Unternehmensziele\, persönliche Ziele und Mindset\, Qualitätsmanagement\, Marketing und Mitarbeiterführung. \nDie Kosten für dieses 2-teilige Seminar belaufen sich auf 1.600 € und sind mit der Einstiegsgebühr für neue Partner abgegolten.
URL:https://elithera.world/veranstaltung/erfolgsfaktoren-modul-1-2/
LOCATION:Elithera Systemzentrale\, Zinngießer Straße 7\, Hameln\, Niedersachsen\, 31785
CATEGORIES:Fortbildung
ATTACH;FMTTYPE=image/jpeg:https://elithera.world/wp-content/uploads/2022/11/erfolgsfaktoren-modul-1.jpg
ORGANIZER;CN="Elithera Netzwerk GmbH":MAILTO:netzwerk@elithera.net
END:VEVENT
BEGIN:VEVENT
DTSTART;VALUE=DATE:20260929
DTEND;VALUE=DATE:20260930
DTSTAMP:20260425T025856
CREATED:20251127T115555Z
LAST-MODIFIED:20251127T115555Z
UID:10000905-1790640000-1790726399@elithera.world
SUMMARY:Weltherztag
DESCRIPTION:die digitalen Produkte zum Gesundheitstag solltest Du jetzt herunterladen: \nzum Shop
URL:https://elithera.world/veranstaltung/weltherztag/
LOCATION:Deine Praxis / Dein Gesundheitszentrum
CATEGORIES:Marketingjahresplan
ATTACH;FMTTYPE=image/jpeg:https://elithera.world/wp-content/uploads/2025/11/Welt-Herztag.jpg
ORGANIZER;CN="Elithera Netzwerk GmbH":MAILTO:netzwerk@elithera.net
END:VEVENT
END:VCALENDAR